BEGIN:VCALENDAR
VERSION:2.0
PRODID:-//eventon.com NONSGML v1.0//EN
CALSCALE:GREGORIAN
METHOD:PUBLISH
BEGIN:VEVENT
UID:69e8f90d27d22
DTSTAMP:20260422T163629Z
DTSTART:20240430T093000Z
DTEND:20240430T225000Z
LOCATION:
SUMMARY:IOW NFU Farm Assurance Review Member Sessions
DESCRIPTION:You&#8217;re invited to participate in a session aimed at gathe
 ring feedback to inform the future of farm assurance. NFU want to listen an
 d together\,  shape an assurance framework that&#8217;s fit the future\,  d
 elivering tangible benefits for the farmers and growers of today\,  and \, 
  importantly\,  the farmers and growers of[..]\nhttps://www.wightruralhub.c
 o.uk/events/iow-nfu-farm-assurance-review-member-sessions/
URL:https://www.wightruralhub.co.uk/events/iow-nfu-farm-assurance-review-member-sessions/
END:VEVENT
END:VCALENDAR