BEGIN:VCALENDAR
VERSION:2.0
PRODID:-//eventon.com NONSGML v1.0//EN
CALSCALE:GREGORIAN
METHOD:PUBLISH
BEGIN:VEVENT
UID:69ea428d5567f
DTSTAMP:20260423T160221Z
DTSTART:20251011T080000Z
DTEND:20251011T113000Z
LOCATION:
SUMMARY:The Carisbrooke Vets Farm Flock Keepers Course
DESCRIPTION:EXTERNAL EVENT Flock Keepers Course Are you fairly new to keepi
 ng sheep or thinking about starting your own flock and want to prepare? At 
 college and looking to up your sheep skills? Want to be a vet and need more
  farm experience? Join us for a morning of practical sheep[..]\nhttps://www
 .wightruralhub.co.uk/events/the-carisbrooke-vets-farm-flock-keepers-course/
URL:https://www.wightruralhub.co.uk/events/the-carisbrooke-vets-farm-flock-keepers-course/
END:VEVENT
END:VCALENDAR