BEGIN:VCALENDAR
VERSION:2.0
PRODID:-//eventon.com NONSGML v1.0//EN
CALSCALE:GREGORIAN
METHOD:PUBLISH
BEGIN:VEVENT
UID:69e88cab8cf14
DTSTAMP:20260422T085403Z
DTSTART:20230208T093000Z
DTEND:20230208T160000Z
LOCATION:NATIONAL AGRICULTURAL AND EXHIBITION CENTRE Stoneleigh Park Estate Office 7 Eastgate Stoneleigh Park Kenilworth CV8 2LG
SUMMARY:NFU Workshop: securing cost price increases with buyers
DESCRIPTION:NFU Workshop: securing cost price increases with buyersÂ @Â NFU
  HQ\,  Stoneleigh Park.Â Â  To secure your place\,  contact NFUÂ CallFirstÂ
  on 0370 845 8458\nhttps://www.wightruralhub.co.uk/events/nfu-workshop-secu
 ring-cost-price-increases-with-buyers/
URL:https://www.wightruralhub.co.uk/events/nfu-workshop-securing-cost-price-increases-with-buyers/
END:VEVENT
END:VCALENDAR