BEGIN:VCALENDAR
VERSION:2.0
PRODID:-//eventon.com NONSGML v1.0//EN
CALSCALE:GREGORIAN
METHOD:PUBLISH
BEGIN:VEVENT
UID:69e9e5577dea9
DTSTAMP:20260423T092439Z
DTSTART:20260408
DTEND:20260409
LOCATION:
SUMMARY:Lowland Peat Water Discovery Grant – Now Open
DESCRIPTION:The opportunity to apply for a Lowland Peat Water Discovery Gra
 nt is now live. Up to £4.5 million in funding is available to support farm
 ers and local partnerships in exploring more sustainable approaches to wate
 r management in lowland peat areas. This is an excellent opportunity to dev
 elop collaborative projects that[..]\nhttps://www.wightruralhub.co.uk/event
 s/apply-for-a-lowland-peat-water-discovery-grant/
URL:https://www.wightruralhub.co.uk/events/apply-for-a-lowland-peat-water-discovery-grant/
END:VEVENT
END:VCALENDAR