BEGIN:VCALENDAR
VERSION:2.0
PRODID:-//eventon.com NONSGML v1.0//EN
CALSCALE:GREGORIAN
METHOD:PUBLISH
BEGIN:VEVENT
UID:69ec0ee982028
DTSTAMP:20260425T004633Z
DTSTART:20230915
DTEND:20230916
LOCATION:
SUMMARY:Deadline for Countryside Stewardship Mid Tier Applications
DESCRIPTION:https://www.gov.uk/claim-rural-payments &nbsp;\nhttps://www.wig
 htruralhub.co.uk/events/deadline-for-countryside-stewardship-mid-tier-appli
 cations-countryside-stewardship-wildlife-offers/
URL:https://www.wightruralhub.co.uk/events/deadline-for-countryside-stewardship-mid-tier-applications-countryside-stewardship-wildlife-offers/
END:VEVENT
END:VCALENDAR