BEGIN:VCALENDAR
VERSION:2.0
PRODID:-//eventon.com NONSGML v1.0//EN
CALSCALE:GREGORIAN
METHOD:PUBLISH
BEGIN:VEVENT
UID:69ecb5a1c0dd3
DTSTAMP:20260425T123753Z
DTSTART:20230406T180000Z
DTEND:20230406T225000Z
LOCATION:
SUMMARY:Animal Health & Welfare Pathway Event - Green\,  Roberts & Butler on Thursday 6th April 7pm at Porchfield Cricket Club
DESCRIPTION:To reserve a space please email admin@iowvet.com\nhttps://www.w
 ightruralhub.co.uk/events/animal-health-welfare-pathway-event-green-roberts
 -butler-on-thursday-6th-april-7pm-at-porchfield-cricket-club/
URL:https://www.wightruralhub.co.uk/events/animal-health-welfare-pathway-event-green-roberts-butler-on-thursday-6th-april-7pm-at-porchfield-cricket-club/
END:VEVENT
END:VCALENDAR