BEGIN:VCALENDAR
VERSION:2.0
PRODID:-//eventon.com NONSGML v1.0//EN
CALSCALE:GREGORIAN
METHOD:PUBLISH
BEGIN:VEVENT
UID:69e75c2170a38
DTSTAMP:20260421T111441Z
DTSTART:20230712
DTEND:20230713
LOCATION:
SUMMARY:Deadline to use the Water Management grant online eligibility checker
DESCRIPTION:Part of the Farming Investment Fund\,  the Water Management g
 rant is open to horticultural and arable businesses growing\,  or intending
  to grow\,  irrigated food crops\,  ornamentals\,  or forestry nurserie
 s. The minimum grant is £35\, 000\,  with a maximum grant available of £5
 00\, 000 per applicant per funding round. The grant is designed to help imp
 rove[..]\nhttps://www.wightruralhub.co.uk/events/deadline-to-use-the-water-
 management-grant-online-eligibility-checker/
URL:https://www.wightruralhub.co.uk/events/deadline-to-use-the-water-management-grant-online-eligibility-checker/
END:VEVENT
END:VCALENDAR