BEGIN:VCALENDAR
VERSION:2.0
PRODID:-//eventon.com NONSGML v1.0//EN
CALSCALE:GREGORIAN
METHOD:PUBLISH
BEGIN:VEVENT
UID:69ea96be76b1d
DTSTAMP:20260423T220134Z
DTSTART:20231015T100000Z
DTEND:20231015T150000Z
LOCATION:Isle of Wight Community Club\,  Park Road\,  Cowes PO31 7NP Isle of Wight Community Club\,  Park Road\,  Cowes PO31 7NP
SUMMARY:IOW Yellow Legged Asian Hornet Awareness Day
DESCRIPTION:Yellow Legged Asian Hornet Awareness Campaign&#8217;s first pub
 lic meeting is taking place on 15 October at the Isle of Wight Community Cl
 ub\,  Park Road\,  Cowes PO31 7NP.  There will be presentations\,  worksho
 ps\,  information\,  opportunities to volunteer and Asian hornets in resin 
 for identification. Meet the Isle of Wight Asian Hornet[..]\nhttps://www.wi
 ghtruralhub.co.uk/events/iow-asian-hornet-awareness-day/
URL:https://www.wightruralhub.co.uk/events/iow-asian-hornet-awareness-day/
END:VEVENT
END:VCALENDAR